BEGIN:VCALENDAR
VERSION:2.0
PRODID:-//Ghobash Cares - ECPv6.15.20//NONSGML v1.0//EN
CALSCALE:GREGORIAN
METHOD:PUBLISH
X-ORIGINAL-URL:https://ghobashcares.com
X-WR-CALDESC:Events for Ghobash Cares
REFRESH-INTERVAL;VALUE=DURATION:PT1H
X-Robots-Tag:noindex
X-PUBLISHED-TTL:PT1H
BEGIN:VTIMEZONE
TZID:Asia/Dubai
BEGIN:STANDARD
TZOFFSETFROM:+0400
TZOFFSETTO:+0400
TZNAME:+04
DTSTART:20250101T000000
END:STANDARD
END:VTIMEZONE
BEGIN:VEVENT
DTSTART;TZID=Asia/Dubai:20260309T171500
DTEND;TZID=Asia/Dubai:20260309T181500
DTSTAMP:20260424T015249
CREATED:20260211T054731Z
LAST-MODIFIED:20260306T060404Z
UID:2403-1773076500-1773080100@ghobashcares.com
SUMMARY:Iftar Meals Distribution Activity (Labor Camp\, Dubai)
DESCRIPTION:60% of Dubai’s expat community consist of workers in essential roles. From construction workers and cleaners to delivery riders and maintenance staff\, their contribution plays a significant role in building and shaping the UAE. You’ll start this activity with a welcome speech and introduction\, followed by coming together as a team to pack essential parcels and distribute 200 iftar meals to the workers’ community. \nThis is a heartwarming experience to give back and express our appreciation and gratitude during the Holy Month of Ramadan.
URL:https://ghobashcares.com/event/iftar-meals-distribution-activity-labor-camp-dubai/
LOCATION:Dubai\, Dubai\, United Arab Emirates
CATEGORIES:Cultural Responsibility,Social Responsibility
ATTACH;FMTTYPE=image/jpeg:https://ghobashcares.com/wp-content/uploads/2026/02/CSR-IFTAR-MEAL-DISTRIBUTION-2026-4K.jpg
ORGANIZER;CN="Ghobash Cares":MAILTO:csr@ghobashcares.com
END:VEVENT
END:VCALENDAR